BEGIN:VCALENDAR
VERSION:2.0
PRODID:-//FCC Beardstown - ECPv6.15.11//NONSGML v1.0//EN
CALSCALE:GREGORIAN
METHOD:PUBLISH
X-ORIGINAL-URL:https://fccbeardstown.org
X-WR-CALDESC:Events for FCC Beardstown
REFRESH-INTERVAL;VALUE=DURATION:PT1H
X-Robots-Tag:noindex
X-PUBLISHED-TTL:PT1H
BEGIN:VTIMEZONE
TZID:America/Chicago
BEGIN:DAYLIGHT
TZOFFSETFROM:-0600
TZOFFSETTO:-0500
TZNAME:CDT
DTSTART:20250309T080000
END:DAYLIGHT
BEGIN:STANDARD
TZOFFSETFROM:-0500
TZOFFSETTO:-0600
TZNAME:CST
DTSTART:20251102T070000
END:STANDARD
BEGIN:DAYLIGHT
TZOFFSETFROM:-0600
TZOFFSETTO:-0500
TZNAME:CDT
DTSTART:20260308T080000
END:DAYLIGHT
BEGIN:STANDARD
TZOFFSETFROM:-0500
TZOFFSETTO:-0600
TZNAME:CST
DTSTART:20261101T070000
END:STANDARD
BEGIN:DAYLIGHT
TZOFFSETFROM:-0600
TZOFFSETTO:-0500
TZNAME:CDT
DTSTART:20270314T080000
END:DAYLIGHT
BEGIN:STANDARD
TZOFFSETFROM:-0500
TZOFFSETTO:-0600
TZNAME:CST
DTSTART:20271107T070000
END:STANDARD
END:VTIMEZONE
BEGIN:VEVENT
DTSTART;TZID=America/Chicago:20260516T100000
DTEND;TZID=America/Chicago:20260516T170000
DTSTAMP:20260423T221837
CREATED:20250815T163501Z
LAST-MODIFIED:20250815T163501Z
UID:2209-1778925600-1778950800@fccbeardstown.org
SUMMARY:Foundations Learn to BBQ Event
DESCRIPTION:More details coming soon!
URL:https://fccbeardstown.org/event/foundations-learn-to-bbq-event/
LOCATION:Petersen Home\, 6 Boulevard Rd\, Beardstown\, IL\, 62618\, United States
CATEGORIES:Foundations Men's Ministry
ATTACH;FMTTYPE=image/png:https://fccbeardstown.org/wp-content/uploads/2025/08/Euchre-5.png
END:VEVENT
END:VCALENDAR